BEGIN:VCALENDAR
VERSION:2.0
PRODID:-//Sequim Lavender Trail - ECPv6.15.20//NONSGML v1.0//EN
CALSCALE:GREGORIAN
METHOD:PUBLISH
X-WR-CALNAME:Sequim Lavender Trail
X-ORIGINAL-URL:https://sequimlavender.org
X-WR-CALDESC:Events for Sequim Lavender Trail
REFRESH-INTERVAL;VALUE=DURATION:PT1H
X-Robots-Tag:noindex
X-PUBLISHED-TTL:PT1H
BEGIN:VTIMEZONE
TZID:America/Los_Angeles
BEGIN:DAYLIGHT
TZOFFSETFROM:-0800
TZOFFSETTO:-0700
TZNAME:PDT
DTSTART:20220313T100000
END:DAYLIGHT
BEGIN:STANDARD
TZOFFSETFROM:-0700
TZOFFSETTO:-0800
TZNAME:PST
DTSTART:20221106T090000
END:STANDARD
BEGIN:DAYLIGHT
TZOFFSETFROM:-0800
TZOFFSETTO:-0700
TZNAME:PDT
DTSTART:20230312T100000
END:DAYLIGHT
BEGIN:STANDARD
TZOFFSETFROM:-0700
TZOFFSETTO:-0800
TZNAME:PST
DTSTART:20231105T090000
END:STANDARD
BEGIN:DAYLIGHT
TZOFFSETFROM:-0800
TZOFFSETTO:-0700
TZNAME:PDT
DTSTART:20240310T100000
END:DAYLIGHT
BEGIN:STANDARD
TZOFFSETFROM:-0700
TZOFFSETTO:-0800
TZNAME:PST
DTSTART:20241103T090000
END:STANDARD
END:VTIMEZONE
BEGIN:VEVENT
DTSTART;TZID=America/Los_Angeles:20230707T120000
DTEND;TZID=America/Los_Angeles:20230707T140000
DTSTAMP:20260423T012421
CREATED:20230322T034834Z
LAST-MODIFIED:20230322T034946Z
UID:13362-1688731200-1688738400@sequimlavender.org
SUMMARY:"Lavender Lawlessness" at Olympic Theater Arts
DESCRIPTION:Cheer the Hero\, boo the Villain and sigh for the damsel in distress in this hilarious\, over-the-top melodrama based on the mythical history of the Pacific Northwest and Sequim\, which is considered the Lavender Capital of the World. This is sure to become a new annual tradition getting more convoluted year after year as the myths live on. \nAdults: $20\nStudents: $15
URL:https://sequimlavender.org/event/lavender-lawlessness-at-olympic-theater-arts/
LOCATION:Olympic Theater Arts\, 414 N. Sequim Ave.\, Sequim\, WA\, 98382\, United States
ATTACH;FMTTYPE=image/webp:https://sequimlavender.org/wp-content/uploads/2023/03/OTA-show.webp
ORGANIZER;CN="Olympic Theater Arts":MAILTO:office@olympictheatrearts.org
END:VEVENT
END:VCALENDAR